BEGIN:VCALENDAR
VERSION:2.0
METHOD:PUBLISH
PRODID:-//Accessible Web Design//My Calendar//http://www.joedolson.com//v//EN';
BEGIN:VEVENT
UID:485-14
LOCATION:DonauSplash Karl-Metz-Gasse 1a  Tulln an der Donau  3430
SUMMARY:Aktiv Sommercamp  19.08.2023 - 23.08.2024 8 - 12 Jahre
DTSTAMP:20240819T083000
ORGANIZER;CN=Kristina Zehetner:MAILTO:tina.zehetner@gmx.at
DTSTART:20240819T083000
DTEND:20240823T153000
CATEGORIES:Feriencamp
URL;VALUE=URI:https://staging.triteamtulln.at/mc-events/aktiv-sommercamp-19-08-2023-23-08-2024-8-12-jahre/?mc_id=485
DESCRIPTION:Aktiv Sommercamp 19.08.2023 – 23.08.2023 für Kinder von 8 – 12 Jahren &nbsp; WANN:         Montag – Freitag    8:30 – 15:30 UHR (Betreuung ab 7:30 Uhr Zusatzkosten 25 € für die ganze Woche) WO:               Klostergasse 21/Feldgasse 3, 3434 Tulbing KOSTEN:     190 € pro Camp                      &hellip;
END:VEVENT
END:VCALENDAR