BEGIN:VCALENDAR
VERSION:2.0
METHOD:PUBLISH
PRODID:-//Accessible Web Design//My Calendar//http://www.joedolson.com//v//EN';
BEGIN:VEVENT
UID:73-8
LOCATION:DonauSplash Karl-Metz-Gasse 1a  Tulln an der Donau  3430
SUMMARY:Fortgeschrittene DO 19 Uhr
DTSTAMP:20240418T190000
ORGANIZER;CN=Kristina Zehetner:MAILTO:tina.zehetner@gmx.at
DTSTART:20240418T190000
DTEND:20240418T200000
CATEGORIES:Erwachsene, Schwimmen
URL;VALUE=URI:https://staging.triteamtulln.at/mc-events/fortgeschrittene-do-19-uhr/?mc_id=73
DESCRIPTION:Fortgeschrittene Voraussetzungen: Beherrschen der Kraultechnik und Brusttechnik in der Grobform Ziel: Verbesserung aller Lagen (Feinform)                                                   DO   19:00 – 20:00 Uhr (Donausplash Tulln)   Preis pro Person (exkl. Badeeintritt): Semsterticket (15 EH/18€ pro Einheit) Jahresticket (30 EH/16€ pro Einheit) 28.09.2023 – 01.02.2024 28.09.2023 – 13.06.2024 Preis regulär: 270 € Preis regulär: 480 € Preis Basis&hellip;
END:VEVENT
END:VCALENDAR