BEGIN:VCALENDAR
VERSION:2.0
METHOD:PUBLISH
PRODID:-//Accessible Web Design//My Calendar//http://www.joedolson.com//v//EN';
BEGIN:VEVENT
UID:493-9
LOCATION:DonauSplash Karl-Metz-Gasse 1a  Tulln an der Donau  3430
SUMMARY:Anfänger DO 18 Uhr
DTSTAMP:20231123T180000
ORGANIZER;CN=Kristina Zehetner:MAILTO:tina.zehetner@gmx.at
DTSTART:20231123T180000
DTEND:20231123T190000
CATEGORIES:Erwachsene, Schwimmen
URL;VALUE=URI:https://staging.triteamtulln.at/mc-events/anfaenger-do-18-uhr/?mc_id=493
DESCRIPTION:Leicht Fortgeschritten Anfänger Voraussetzungen: Abgeschlossene Wassergewöhnung, selbständiges Überwasserhalten           Ziele: Erlernen der Kraul/Brust/Rückentechniken                                                   DO   18:00 - 19:00 Uhr (Donausplash Tulln) Preis pro Person (exkl. Badeeintritt): Semsterticket (15 EH/18€ pro Einheit) Jahresticket (30 EH/16€ pro Einheit) 28.09.2023 – 01.02.2024 28.09.2023 – 13.06.2024 Preis regulär: 270 € Preis regulär: 480 € Preis Basis (-5%) 256 € Preis&hellip;
END:VEVENT
END:VCALENDAR