BEGIN:VCALENDAR
VERSION:2.0
METHOD:PUBLISH
PRODID:-//Accessible Web Design//My Calendar//http://www.joedolson.com//v//EN';
BEGIN:VEVENT
UID:484-13
LOCATION:DonauSplash Karl-Metz-Gasse 1a  Tulln an der Donau  3430
SUMMARY:Aktiv Sommercamp  01.07. - 05.07.2024 8 - 12 Jahre
DTSTAMP:20240701T083000
ORGANIZER;CN=Kristina Zehetner:MAILTO:tina.zehetner@gmx.at
DTSTART:20240701T083000
DTEND:20240705T153000
CATEGORIES:Feriencamp
URL;VALUE=URI:https://staging.triteamtulln.at/mc-events/aktiv-sommercamp-01-07-05-07-2024-8-12-jahre/?mc_id=484
DESCRIPTION:Aktiv Sommercamp 01.07.2024 – 05.07.2024 für Kinder von 8 – 12 Jahren &nbsp; WANN:         Montag – Freitag    8:30 – 15:30 UHR (Betreuung ab 7:30 Uhr Zusatzkosten 25 € für die ganze Woche) WO:               Klostergasse 21/Feldgasse 3, 3434 Tulbing KOSTEN:     190 € pro Camp                      &hellip;
END:VEVENT
END:VCALENDAR