BEGIN:VCALENDAR
VERSION:2.0
METHOD:PUBLISH
PRODID:-//Accessible Web Design//My Calendar//http://www.joedolson.com//v//EN';
BEGIN:VEVENT
UID:464-12
LOCATION:DonauSplash Karl-Metz-Gasse 1a  Tulln an der Donau  3430
SUMMARY:Schwimmen für Kinder &amp; Jugendliche (Profis)
DTSTAMP:20240411T171000
ORGANIZER;CN=Kristina Zehetner:MAILTO:tina.zehetner@gmx.at
DTSTART:20240411T171000
DTEND:20240411T180000
CATEGORIES:Kinder, Schwimmen
URL;VALUE=URI:https://staging.triteamtulln.at/mc-events/schwimmen-fuer-kinder-jugendliche-profis/?mc_id=464
DESCRIPTION:DO 17:10 – 18.00 Uhr (Profis) Alter: ca. 11 – 14 Jahre Kursziel: Verbessern verschiedener Schwimmstile Voraussetzungen: Kinder sollten 200m (8 Längen) selbständig schwimmen können. Pro Bahn max. 8 Kinder &nbsp; Ferien und Feiertagen findet keine Training statt!!!!
END:VEVENT
END:VCALENDAR