BEGIN:VCALENDAR
VERSION:2.0
METHOD:PUBLISH
PRODID:-//Accessible Web Design//My Calendar//http://www.joedolson.com//v//EN';
BEGIN:VEVENT
UID:28-7
LOCATION:DonauSplash Karl-Metz-Gasse 1a  Tulln an der Donau  3430
SUMMARY:Könner/Gute Fortgeschrittene DO 20 Uhr
DTSTAMP:20240222T200000
ORGANIZER;CN=Kristina Zehetner:MAILTO:tina.zehetner@gmx.at
DTSTART:20240222T200000
DTEND:20240222T201500
CATEGORIES:Erwachsene, Schwimmen
URL;VALUE=URI:https://staging.triteamtulln.at/mc-events/koenner-gute-fortgeschrittene-do-20-uhr/?mc_id=28
DESCRIPTION:Könner/WK-Schwimmer Gute Fortgeschrittene Voraussetzungen: Beherrschen der Kraultechnik und Brusttechnik in der Fein/Grobform           Ziel: Verbesserung aller Lagen (Feinform)                                                   DO   20:00 – 21:15 Uhr (Donausplash Tulln)   Preis pro Person (exkl. Badeeintritt): Semsterticket (15 EH/18€ pro Einheit) Jahresticket (30 EH/16€ pro Einheit) 28.09.2023 – 01.02.2024 28.09.2023 – 13.06.2024 Preis regulär: 270 € Preis regulär: 480&hellip;
END:VEVENT
END:VCALENDAR