BEGIN:VCALENDAR
VERSION:2.0
METHOD:PUBLISH
PRODID:-//Accessible Web Design//My Calendar//http://www.joedolson.com//v//EN';
BEGIN:VEVENT
UID:274-11
LOCATION:DonauSplash Karl-Metz-Gasse 1a  Tulln an der Donau  3430
SUMMARY:Schwimmen für Kinder &amp; Jugendliche (Schwimmer)
DTSTAMP:20240111T162000
ORGANIZER;CN=Kristina Zehetner:MAILTO:tina.zehetner@gmx.at
DTSTART:20240111T162000
DTEND:20240111T170500
CATEGORIES:Kinder, Schwimmen
URL;VALUE=URI:https://staging.triteamtulln.at/mc-events/schwimmen-fuer-kinder-jugendliche-schwimmer/?mc_id=274
DESCRIPTION:DO 16:20 – 17:05 Uhr (Schwimmer) Alter: ca. 9 – 10 Jahren Kursziel: Erlernen und verbessern verschiedener Schwimmstile Voraussetzungen: Kinder sollten 100 m (4 Längen) selbständig schwimmen können. Pro Bahn max. 8 Kinder &nbsp; Ferien und Feiertagen findet keine Training statt!!!!
END:VEVENT
END:VCALENDAR