BEGIN:VCALENDAR
VERSION:2.0
METHOD:PUBLISH
PRODID:-//Accessible Web Design//My Calendar//http://www.joedolson.com//v//EN';
BEGIN:VEVENT
UID:133-10
LOCATION:DonauSplash Karl-Metz-Gasse 1a  Tulln an der Donau  3430
SUMMARY:Schwimmen für Kinder &amp; Jugendliche (Beginner)
DTSTAMP:20231019T153000
ORGANIZER;CN=Kristina Zehetner:MAILTO:tina.zehetner@gmx.at
DTSTART:20231019T153000
DTEND:20231019T161500
CATEGORIES:Kinder, Schwimmen
URL;VALUE=URI:https://staging.triteamtulln.at/mc-events/schwimmen-fuer-kinder-jugendliche-beginner/?mc_id=133
DESCRIPTION:DO 15:30 – 16:15 Uhr (Beginner) Alter: ca. 6 – 8 Jahre Kursziel: Erlernen und verbessern verschiedener Schwimmstile Voraussetzungen: Kinder sollten 25 m (1 Länge) selbständig schwimmen können. Pro Bahn max. 8 Kinder &nbsp; Ferien und Feiertagen findet keine Training statt!!!!
END:VEVENT
END:VCALENDAR